BEGIN:VCALENDAR
VERSION:2.0
PRODID:-//Central Pennsylvania Chapter #079 - ECPv6.15.17.1//NONSGML v1.0//EN
CALSCALE:GREGORIAN
METHOD:PUBLISH
X-ORIGINAL-URL:https://paasis.org
X-WR-CALDESC:Events for Central Pennsylvania Chapter #079
REFRESH-INTERVAL;VALUE=DURATION:PT1H
X-Robots-Tag:noindex
X-PUBLISHED-TTL:PT1H
BEGIN:VTIMEZONE
TZID:America/New_York
BEGIN:DAYLIGHT
TZOFFSETFROM:-0500
TZOFFSETTO:-0400
TZNAME:EDT
DTSTART:20210314T070000
END:DAYLIGHT
BEGIN:STANDARD
TZOFFSETFROM:-0400
TZOFFSETTO:-0500
TZNAME:EST
DTSTART:20211107T060000
END:STANDARD
BEGIN:DAYLIGHT
TZOFFSETFROM:-0500
TZOFFSETTO:-0400
TZNAME:EDT
DTSTART:20220313T070000
END:DAYLIGHT
BEGIN:STANDARD
TZOFFSETFROM:-0400
TZOFFSETTO:-0500
TZNAME:EST
DTSTART:20221106T060000
END:STANDARD
BEGIN:DAYLIGHT
TZOFFSETFROM:-0500
TZOFFSETTO:-0400
TZNAME:EDT
DTSTART:20230312T070000
END:DAYLIGHT
BEGIN:STANDARD
TZOFFSETFROM:-0400
TZOFFSETTO:-0500
TZNAME:EST
DTSTART:20231105T060000
END:STANDARD
END:VTIMEZONE
BEGIN:VEVENT
DTSTART;TZID=America/New_York:20221117T073000
DTEND;TZID=America/New_York:20221117T073000
DTSTAMP:20260420T034205
CREATED:20221101T130614Z
LAST-MODIFIED:20221101T130614Z
UID:634-1668670200-1668670200@paasis.org
SUMMARY:November Chapter Meeting
DESCRIPTION:November 17\, 2022 Law Enforcement Officer and Security Officer of the Year Awards \nThe Hotel Hershey\n100 Hotel Rd\, Hershey\, PA 17033\nBreakfast 0730 $15.00\nMeeting 0800 No Cost\nMembers and Non-Members Welcome
URL:https://paasis.org/event/november-chapter-meeting/
LOCATION:The Hotel Hershey\, 100 Hotel Road\, Hershey\, PA\, 17033
END:VEVENT
END:VCALENDAR