BEGIN:VCALENDAR
VERSION:2.0
PRODID:-//Central Pennsylvania Chapter #079 - ECPv6.15.17.1//NONSGML v1.0//EN
CALSCALE:GREGORIAN
METHOD:PUBLISH
X-ORIGINAL-URL:https://paasis.org
X-WR-CALDESC:Events for Central Pennsylvania Chapter #079
REFRESH-INTERVAL;VALUE=DURATION:PT1H
X-Robots-Tag:noindex
X-PUBLISHED-TTL:PT1H
BEGIN:VTIMEZONE
TZID:America/New_York
BEGIN:DAYLIGHT
TZOFFSETFROM:-0500
TZOFFSETTO:-0400
TZNAME:EDT
DTSTART:20210314T070000
END:DAYLIGHT
BEGIN:STANDARD
TZOFFSETFROM:-0400
TZOFFSETTO:-0500
TZNAME:EST
DTSTART:20211107T060000
END:STANDARD
BEGIN:DAYLIGHT
TZOFFSETFROM:-0500
TZOFFSETTO:-0400
TZNAME:EDT
DTSTART:20220313T070000
END:DAYLIGHT
BEGIN:STANDARD
TZOFFSETFROM:-0400
TZOFFSETTO:-0500
TZNAME:EST
DTSTART:20221106T060000
END:STANDARD
BEGIN:DAYLIGHT
TZOFFSETFROM:-0500
TZOFFSETTO:-0400
TZNAME:EDT
DTSTART:20230312T070000
END:DAYLIGHT
BEGIN:STANDARD
TZOFFSETFROM:-0400
TZOFFSETTO:-0500
TZNAME:EST
DTSTART:20231105T060000
END:STANDARD
END:VTIMEZONE
BEGIN:VEVENT
DTSTART;TZID=America/New_York:20221215T080000
DTEND;TZID=America/New_York:20221215T153000
DTSTAMP:20260420T021926
CREATED:20221101T131228Z
LAST-MODIFIED:20221101T131453Z
UID:637-1671091200-1671118200@paasis.org
SUMMARY:December Annual Security Workshop
DESCRIPTION:ASIS InfraGard SCTF Security Workshop Dec 2022 \nThursday\, December 15\, 2022\nRegistration: 8:30 AM\nWorkshop: 9:00 AM – 3:30 PM \nPurcell Friendship Hall\n109 McCorkle Road\nHershey\, PA 17033
URL:https://paasis.org/event/december-annual-security-workshop/
LOCATION:Purcell Friendship Hall\, 109 McCorkel Road\, Hershey\, PA\, 17033
END:VEVENT
END:VCALENDAR