BEGIN:VCALENDAR
VERSION:2.0
PRODID:-//Central Pennsylvania Chapter #079 - ECPv6.15.17.1//NONSGML v1.0//EN
CALSCALE:GREGORIAN
METHOD:PUBLISH
X-WR-CALNAME:Central Pennsylvania Chapter #079
X-ORIGINAL-URL:https://paasis.org
X-WR-CALDESC:Events for Central Pennsylvania Chapter #079
REFRESH-INTERVAL;VALUE=DURATION:PT1H
X-Robots-Tag:noindex
X-PUBLISHED-TTL:PT1H
BEGIN:VTIMEZONE
TZID:America/New_York
BEGIN:DAYLIGHT
TZOFFSETFROM:-0500
TZOFFSETTO:-0400
TZNAME:EDT
DTSTART:20220313T070000
END:DAYLIGHT
BEGIN:STANDARD
TZOFFSETFROM:-0400
TZOFFSETTO:-0500
TZNAME:EST
DTSTART:20221106T060000
END:STANDARD
BEGIN:DAYLIGHT
TZOFFSETFROM:-0500
TZOFFSETTO:-0400
TZNAME:EDT
DTSTART:20230312T070000
END:DAYLIGHT
BEGIN:STANDARD
TZOFFSETFROM:-0400
TZOFFSETTO:-0500
TZNAME:EST
DTSTART:20231105T060000
END:STANDARD
BEGIN:DAYLIGHT
TZOFFSETFROM:-0500
TZOFFSETTO:-0400
TZNAME:EDT
DTSTART:20240310T070000
END:DAYLIGHT
BEGIN:STANDARD
TZOFFSETFROM:-0400
TZOFFSETTO:-0500
TZNAME:EST
DTSTART:20241103T060000
END:STANDARD
END:VTIMEZONE
BEGIN:VEVENT
DTSTART;TZID=America/New_York:20231116T080000
DTEND;TZID=America/New_York:20231116T090000
DTSTAMP:20260419T090428
CREATED:20231031T182159Z
LAST-MODIFIED:20231103T171302Z
UID:872-1700121600-1700125200@paasis.org
SUMMARY:November Chapter Meeting
DESCRIPTION:DATE: November 16\, 2023 8:00 AM-9:00AM\nVENUE: Hershey Lodge & Convention Center Cocoa Boardroom (Near Bear’s Den)\nBREAKFAST: Complimentary Doughnuts and Coffee \nMeeting Program: \n\nOpening Remarks\nIntroductions\nSpeaker’s Presentation\n2024 Chapter Officer Nominations Welcomed\nQ&A\nConclusion and Departure
URL:https://paasis.org/event/november-chapter-meeting-2/
LOCATION:Hershey Lodge & Convention Center\, 325 University Drive\, Hershey\, PA\, 17033
END:VEVENT
BEGIN:VEVENT
DTSTART;VALUE=DATE:20231120
DTEND;VALUE=DATE:20231204
DTSTAMP:20260419T090428
CREATED:20231120T165240Z
LAST-MODIFIED:20231120T165240Z
UID:886-1700438400-1701647999@paasis.org
SUMMARY:ASIS Chapter #79 2024 Chapter Officer Nominees
DESCRIPTION:Please use the survey link below to nominate Chapter Officers for 2024. This survey will remain open through December 4. Once all of the nominations have been received\, we will then send out the final voting survey. \n2024 Chapter Officers Nomination Survey
URL:https://paasis.org/event/asis-chapter-79-2024-chapter-officer-nominees/
END:VEVENT
END:VCALENDAR